Package: drawProteins Version: 1.27.0 Command: /Library/Frameworks/R.framework/Resources/bin/R CMD INSTALL drawProteins StartedAt: 2025-02-03 15:41:06 -0500 (Mon, 03 Feb 2025) EndedAt: 2025-02-03 15:41:10 -0500 (Mon, 03 Feb 2025) EllapsedTime: 3.5 seconds RetCode: 0 Status: OK