Package: drawProteins Version: 1.27.0 Command: /home/biocbuild/R/R/bin/R CMD build --keep-empty-dirs --no-resave-data drawProteins StartedAt: 2025-01-28 22:35:29 -0000 (Tue, 28 Jan 2025) EndedAt: 2025-01-28 22:36:13 -0000 (Tue, 28 Jan 2025) EllapsedTime: 44.0 seconds RetCode: 0 Status: OK PackageFile: drawProteins_1.27.0.tar.gz PackageFileSize: 1.001 MiB