Package: drawProteins Version: 1.27.0 Command: /Library/Frameworks/R.framework/Resources/bin/R CMD check --install=check:drawProteins.install-out.txt --library=/Library/Frameworks/R.framework/Resources/library --no-vignettes --timings drawProteins_1.27.0.tar.gz StartedAt: 2025-02-03 20:15:38 -0500 (Mon, 03 Feb 2025) EndedAt: 2025-02-03 20:16:28 -0500 (Mon, 03 Feb 2025) EllapsedTime: 50.4 seconds RetCode: 0 Status: OK CheckDir: drawProteins.Rcheck Warnings: 0