Package: drawProteins Version: 1.27.0 Command: /home/biocbuild/bbs-3.21-bioc/R/bin/R CMD check --install=check:drawProteins.install-out.txt --library=/home/biocbuild/bbs-3.21-bioc/R/site-library --timings drawProteins_1.27.0.tar.gz StartedAt: 2025-02-03 22:01:57 -0500 (Mon, 03 Feb 2025) EndedAt: 2025-02-03 22:02:52 -0500 (Mon, 03 Feb 2025) EllapsedTime: 55.0 seconds RetCode: 0 Status: OK CheckDir: drawProteins.Rcheck Warnings: 0