Package: drawProteins Version: 1.27.0 Command: /home/biocbuild/bbs-3.21-bioc/R/bin/R CMD INSTALL drawProteins StartedAt: 2025-02-05 15:09:17 -0500 (Wed, 05 Feb 2025) EndedAt: 2025-02-05 15:09:20 -0500 (Wed, 05 Feb 2025) EllapsedTime: 3.6 seconds RetCode: 0 Status: OK