Package: drawProteins Version: 1.27.0 Command: rm -rf drawProteins.buildbin-libdir && mkdir drawProteins.buildbin-libdir && E:\biocbuild\bbs-3.21-bioc\R\bin\R.exe CMD INSTALL --build --library=drawProteins.buildbin-libdir drawProteins_1.27.0.tar.gz StartedAt: 2025-02-04 07:53:07 -0500 (Tue, 04 Feb 2025) EndedAt: 2025-02-04 07:53:30 -0500 (Tue, 04 Feb 2025) EllapsedTime: 23.0 seconds RetCode: 0 Status: OK PackageFile: drawProteins_1.27.0.zip PackageFileSize: 857.1 KiB