Package: drawProteins Version: 1.27.0 Command: chmod a+r drawProteins -R && E:\biocbuild\bbs-3.21-bioc\R\bin\R.exe CMD build --keep-empty-dirs --no-resave-data drawProteins StartedAt: 2025-02-03 18:39:20 -0500 (Mon, 03 Feb 2025) EndedAt: 2025-02-03 18:40:06 -0500 (Mon, 03 Feb 2025) EllapsedTime: 45.7 seconds RetCode: 0 Status: OK PackageFile: drawProteins_1.27.0.tar.gz PackageFileSize: 805.1 KiB