Package: drawProteins Version: 1.27.0 Command: E:\biocbuild\bbs-3.21-bioc\R\bin\R.exe CMD check --no-multiarch --install=check:drawProteins.install-out.txt --library=E:\biocbuild\bbs-3.21-bioc\R\library --no-vignettes --timings drawProteins_1.27.0.tar.gz StartedAt: 2025-02-04 01:06:09 -0500 (Tue, 04 Feb 2025) EndedAt: 2025-02-04 01:07:01 -0500 (Tue, 04 Feb 2025) EllapsedTime: 52.0 seconds RetCode: 0 Status: OK CheckDir: drawProteins.Rcheck Warnings: 0