Package: drawProteins Version: 1.27.0 Command: E:\biocbuild\bbs-3.21-bioc\R\bin\R.exe CMD INSTALL drawProteins StartedAt: 2025-02-03 15:44:21 -0500 (Mon, 03 Feb 2025) EndedAt: 2025-02-03 15:44:43 -0500 (Mon, 03 Feb 2025) EllapsedTime: 22.1 seconds RetCode: 0 Status: OK