Package: dupRadar Version: 1.37.0 Command: rm -rf dupRadar.buildbin-libdir && mkdir dupRadar.buildbin-libdir && /Users/biocbuild/BBS/utils/build-universal.sh dupRadar_1.37.0.tar.gz /Library/Frameworks/R.framework/Resources/bin/R dupRadar.buildbin-libdir StartedAt: 2025-02-09 22:12:59 -0500 (Sun, 09 Feb 2025) EndedAt: 2025-02-09 22:13:03 -0500 (Sun, 09 Feb 2025) EllapsedTime: 4.1 seconds RetCode: 0 Status: OK PackageFile: dupRadar_1.37.0.tgz PackageFileSize: 4.819 MiB