Package: dupRadar Version: 1.37.0 Command: /home/biocbuild/R/R/bin/R CMD build --keep-empty-dirs --no-resave-data dupRadar StartedAt: 2025-01-28 22:36:57 -0000 (Tue, 28 Jan 2025) EndedAt: 2025-01-28 22:37:50 -0000 (Tue, 28 Jan 2025) EllapsedTime: 53.0 seconds RetCode: 0 Status: OK PackageFile: dupRadar_1.37.0.tar.gz PackageFileSize: 3.11 MiB