Package: dupRadar Version: 1.37.0 Command: rm -rf dupRadar.buildbin-libdir && mkdir dupRadar.buildbin-libdir && /Users/biocbuild/BBS/utils/build-universal.sh dupRadar_1.37.0.tar.gz /Library/Frameworks/R.framework/Resources/bin/R dupRadar.buildbin-libdir StartedAt: 2025-02-10 00:51:37 -0500 (Mon, 10 Feb 2025) EndedAt: 2025-02-10 00:51:48 -0500 (Mon, 10 Feb 2025) EllapsedTime: 10.5 seconds RetCode: 0 Status: OK PackageFile: dupRadar_1.37.0.tgz PackageFileSize: 4.825 MiB