Package: dupRadar Version: 1.37.0 Command: /Library/Frameworks/R.framework/Resources/bin/R CMD check --install=check:dupRadar.install-out.txt --library=/Library/Frameworks/R.framework/Resources/library --no-vignettes --timings dupRadar_1.37.0.tar.gz StartedAt: 2025-02-09 20:27:41 -0500 (Sun, 09 Feb 2025) EndedAt: 2025-02-09 20:28:39 -0500 (Sun, 09 Feb 2025) EllapsedTime: 57.5 seconds RetCode: 0 Status: OK CheckDir: dupRadar.Rcheck Warnings: 0