Package: easyRNASeq Version: 2.43.0 Command: /Library/Frameworks/R.framework/Resources/bin/R CMD check --install=check:easyRNASeq.install-out.txt --library=/Library/Frameworks/R.framework/Resources/library --no-vignettes --timings easyRNASeq_2.43.0.tar.gz StartedAt: 2025-02-09 19:03:23 -0500 (Sun, 09 Feb 2025) EndedAt: 2025-02-09 19:08:08 -0500 (Sun, 09 Feb 2025) EllapsedTime: 285.3 seconds RetCode: 1 Status: ERROR CheckDir: easyRNASeq.Rcheck Warnings: NA