Package: easyRNASeq Version: 2.43.0 Command: /home/biocbuild/R/R/bin/R CMD build --keep-empty-dirs --no-resave-data easyRNASeq StartedAt: 2025-01-28 22:37:50 -0000 (Tue, 28 Jan 2025) EndedAt: 2025-01-28 22:44:19 -0000 (Tue, 28 Jan 2025) EllapsedTime: 389.1 seconds RetCode: 0 Status: OK PackageFile: easyRNASeq_2.43.0.tar.gz PackageFileSize: 69.57 MiB