Package: easyRNASeq Version: 2.43.0 Command: /home/biocbuild/R/R/bin/R CMD check --install=check:easyRNASeq.install-out.txt --library=/home/biocbuild/R/R/site-library --no-vignettes --timings easyRNASeq_2.43.0.tar.gz StartedAt: 2025-01-28 10:11:27 -0000 (Tue, 28 Jan 2025) EndedAt: 2025-01-28 10:26:47 -0000 (Tue, 28 Jan 2025) EllapsedTime: 920.0 seconds RetCode: 0 Status: WARNINGS CheckDir: easyRNASeq.Rcheck Warnings: 6