Package: easyRNASeq Version: 2.43.0 Command: /home/biocbuild/R/R/bin/R CMD INSTALL easyRNASeq StartedAt: 2025-01-29 20:02:07 -0000 (Wed, 29 Jan 2025) EndedAt: 2025-01-29 20:03:10 -0000 (Wed, 29 Jan 2025) EllapsedTime: 62.9 seconds RetCode: 0 Status: OK