Package: easyRNASeq Version: 2.43.0 Command: rm -rf easyRNASeq.buildbin-libdir && mkdir easyRNASeq.buildbin-libdir && /Users/biocbuild/BBS/utils/build-universal.sh easyRNASeq_2.43.0.tar.gz /Library/Frameworks/R.framework/Resources/bin/R easyRNASeq.buildbin-libdir StartedAt: 2025-02-10 00:51:44 -0500 (Mon, 10 Feb 2025) EndedAt: 2025-02-10 00:52:55 -0500 (Mon, 10 Feb 2025) EllapsedTime: 70.6 seconds RetCode: 0 Status: OK PackageFile: easyRNASeq_2.43.0.tgz PackageFileSize: 24.07 MiB