Package: easyRNASeq Version: 2.43.0 Command: /Library/Frameworks/R.framework/Resources/bin/R CMD build --keep-empty-dirs --no-resave-data easyRNASeq StartedAt: 2025-02-09 16:38:20 -0500 (Sun, 09 Feb 2025) EndedAt: 2025-02-09 16:42:34 -0500 (Sun, 09 Feb 2025) EllapsedTime: 253.8 seconds RetCode: 0 Status: OK PackageFile: easyRNASeq_2.43.0.tar.gz PackageFileSize: 69.55 MiB