Package: easyRNASeq Version: 2.43.0 Command: /Library/Frameworks/R.framework/Resources/bin/R CMD INSTALL easyRNASeq StartedAt: 2025-02-03 15:27:07 -0500 (Mon, 03 Feb 2025) EndedAt: 2025-02-03 15:28:08 -0500 (Mon, 03 Feb 2025) EllapsedTime: 60.9 seconds RetCode: 0 Status: OK