Package: easyRNASeq Version: 2.43.0 Command: /home/biocbuild/bbs-3.21-bioc/R/bin/R CMD build --keep-empty-dirs --no-resave-data easyRNASeq StartedAt: 2025-02-09 17:05:50 -0500 (Sun, 09 Feb 2025) EndedAt: 2025-02-09 17:09:35 -0500 (Sun, 09 Feb 2025) EllapsedTime: 225.3 seconds RetCode: 0 Status: OK PackageFile: easyRNASeq_2.43.0.tar.gz PackageFileSize: 69.55 MiB