Package: easyRNASeq Version: 2.43.0 Command: /home/biocbuild/bbs-3.21-bioc/R/bin/R CMD INSTALL easyRNASeq StartedAt: 2025-02-09 15:50:31 -0500 (Sun, 09 Feb 2025) EndedAt: 2025-02-09 15:51:16 -0500 (Sun, 09 Feb 2025) EllapsedTime: 45.5 seconds RetCode: 0 Status: OK