Package: easyRNASeq Version: 2.43.0 Command: rm -rf easyRNASeq.buildbin-libdir && mkdir easyRNASeq.buildbin-libdir && E:\biocbuild\bbs-3.21-bioc\R\bin\R.exe CMD INSTALL --build --library=easyRNASeq.buildbin-libdir easyRNASeq_2.43.0.tar.gz StartedAt: 2025-02-10 07:40:10 -0500 (Mon, 10 Feb 2025) EndedAt: 2025-02-10 07:43:06 -0500 (Mon, 10 Feb 2025) EllapsedTime: 175.7 seconds RetCode: 0 Status: OK PackageFile: easyRNASeq_2.43.0.zip PackageFileSize: 23.98 MiB