Package: easyRNASeq Version: 2.43.0 Command: chmod a+r easyRNASeq -R && E:\biocbuild\bbs-3.21-bioc\R\bin\R.exe CMD build --keep-empty-dirs --no-resave-data easyRNASeq StartedAt: 2025-02-09 18:29:26 -0500 (Sun, 09 Feb 2025) EndedAt: 2025-02-09 18:34:24 -0500 (Sun, 09 Feb 2025) EllapsedTime: 297.8 seconds RetCode: 0 Status: OK PackageFile: easyRNASeq_2.43.0.tar.gz PackageFileSize: 69.47 MiB