Package: easyRNASeq Version: 2.43.0 Command: E:\biocbuild\bbs-3.21-bioc\R\bin\R.exe CMD check --no-multiarch --install=check:easyRNASeq.install-out.txt --library=E:\biocbuild\bbs-3.21-bioc\R\library --no-vignettes --timings easyRNASeq_2.43.0.tar.gz StartedAt: 2025-02-10 00:43:56 -0500 (Mon, 10 Feb 2025) EndedAt: 2025-02-10 00:55:55 -0500 (Mon, 10 Feb 2025) EllapsedTime: 718.6 seconds RetCode: 0 Status: WARNINGS CheckDir: easyRNASeq.Rcheck Warnings: 1