Package: easyRNASeq Version: 2.43.0 Command: E:\biocbuild\bbs-3.21-bioc\R\bin\R.exe CMD INSTALL easyRNASeq StartedAt: 2025-02-09 16:53:54 -0500 (Sun, 09 Feb 2025) EndedAt: 2025-02-09 16:55:29 -0500 (Sun, 09 Feb 2025) EllapsedTime: 94.5 seconds RetCode: 0 Status: OK