Package: edgeR Version: 4.5.2 Command: /Library/Frameworks/R.framework/Resources/bin/R CMD check --install=check:edgeR.install-out.txt --library=/Library/Frameworks/R.framework/Resources/library --no-vignettes --timings edgeR_4.5.2.tar.gz StartedAt: 2025-02-12 19:07:54 -0500 (Wed, 12 Feb 2025) EndedAt: 2025-02-12 19:08:28 -0500 (Wed, 12 Feb 2025) EllapsedTime: 33.4 seconds RetCode: 0 Status: OK CheckDir: edgeR.Rcheck Warnings: 0