Package: edgeR Version: 4.5.2 Command: /Library/Frameworks/R.framework/Resources/bin/R CMD INSTALL edgeR StartedAt: 2025-02-09 15:02:46 -0500 (Sun, 09 Feb 2025) EndedAt: 2025-02-09 15:02:53 -0500 (Sun, 09 Feb 2025) EllapsedTime: 6.5 seconds RetCode: 0 Status: OK