Package: edgeR Version: 4.5.2 Command: /home/biocbuild/R/R/bin/R CMD INSTALL edgeR StartedAt: 2025-01-29 19:34:56 -0000 (Wed, 29 Jan 2025) EndedAt: 2025-01-29 19:35:20 -0000 (Wed, 29 Jan 2025) EllapsedTime: 24.4 seconds RetCode: 0 Status: OK