Package: edgeR Version: 4.5.2 Command: /home/biocbuild/bbs-3.21-bioc/R/bin/R CMD build --keep-empty-dirs --no-resave-data edgeR StartedAt: 2025-02-12 17:03:16 -0500 (Wed, 12 Feb 2025) EndedAt: 2025-02-12 17:03:36 -0500 (Wed, 12 Feb 2025) EllapsedTime: 20.0 seconds RetCode: 0 Status: OK PackageFile: edgeR_4.5.2.tar.gz PackageFileSize: 3.281 MiB