Package: edgeR Version: 4.5.2 Command: rm -rf edgeR.buildbin-libdir && mkdir edgeR.buildbin-libdir && E:\biocbuild\bbs-3.21-bioc\R\bin\R.exe CMD INSTALL --build --library=edgeR.buildbin-libdir edgeR_4.5.2.tar.gz StartedAt: 2025-02-10 07:40:30 -0500 (Mon, 10 Feb 2025) EndedAt: 2025-02-10 07:42:25 -0500 (Mon, 10 Feb 2025) EllapsedTime: 114.6 seconds RetCode: 0 Status: OK PackageFile: edgeR_4.5.2.zip PackageFileSize: 2.692 MiB