Package: edgeR Version: 4.5.2 Command: chmod a+r edgeR -R && E:\biocbuild\bbs-3.21-bioc\R\bin\R.exe CMD build --keep-empty-dirs --no-resave-data edgeR StartedAt: 2025-02-09 18:30:15 -0500 (Sun, 09 Feb 2025) EndedAt: 2025-02-09 18:31:13 -0500 (Sun, 09 Feb 2025) EllapsedTime: 58.8 seconds RetCode: 0 Status: OK PackageFile: edgeR_4.5.2.tar.gz PackageFileSize: 3.288 MiB