Package: edgeR Version: 4.5.2 Command: E:\biocbuild\bbs-3.21-bioc\R\bin\R.exe CMD check --no-multiarch --install=check:edgeR.install-out.txt --library=E:\biocbuild\bbs-3.21-bioc\R\library --no-vignettes --timings edgeR_4.5.2.tar.gz StartedAt: 2025-02-10 00:46:19 -0500 (Mon, 10 Feb 2025) EndedAt: 2025-02-10 00:48:22 -0500 (Mon, 10 Feb 2025) EllapsedTime: 123.5 seconds RetCode: 0 Status: OK CheckDir: edgeR.Rcheck Warnings: 0