Package: edgeR Version: 4.5.2 Command: E:\biocbuild\bbs-3.21-bioc\R\bin\R.exe CMD INSTALL edgeR StartedAt: 2025-02-12 15:25:59 -0500 (Wed, 12 Feb 2025) EndedAt: 2025-02-12 15:27:36 -0500 (Wed, 12 Feb 2025) EllapsedTime: 97.3 seconds RetCode: 0 Status: OK