Package: eiR Version: 1.47.0 Command: /Library/Frameworks/R.framework/Resources/bin/R CMD build --keep-empty-dirs --no-resave-data eiR StartedAt: 2025-02-09 16:13:16 -0500 (Sun, 09 Feb 2025) EndedAt: 2025-02-09 16:13:17 -0500 (Sun, 09 Feb 2025) EllapsedTime: 1.0 seconds RetCode: 1 Status: ERROR PackageFile: None PackageFileSize: NA