Package: eiR Version: 1.47.0 Command: /Library/Frameworks/R.framework/Resources/bin/R CMD INSTALL eiR StartedAt: 2025-02-09 15:26:25 -0500 (Sun, 09 Feb 2025) EndedAt: 2025-02-09 15:26:26 -0500 (Sun, 09 Feb 2025) EllapsedTime: 1.1 seconds RetCode: 1 Status: ERROR