Package: eiR Version: 1.47.0 Command: /home/biocbuild/R/R/bin/R CMD INSTALL eiR StartedAt: 2025-01-29 20:30:19 -0000 (Wed, 29 Jan 2025) EndedAt: 2025-01-29 20:30:20 -0000 (Wed, 29 Jan 2025) EllapsedTime: 1.0 seconds RetCode: 1 Status: ERROR