Package: eiR Version: 1.47.0 Command: /Library/Frameworks/R.framework/Resources/bin/R CMD build --keep-empty-dirs --no-resave-data eiR StartedAt: 2025-02-03 16:40:42 -0500 (Mon, 03 Feb 2025) EndedAt: 2025-02-03 16:40:44 -0500 (Mon, 03 Feb 2025) EllapsedTime: 2.3 seconds RetCode: 1 Status: ERROR PackageFile: None PackageFileSize: NA