Package: eiR Version: 1.47.0 Command: /Library/Frameworks/R.framework/Resources/bin/R CMD INSTALL eiR StartedAt: 2025-02-03 15:44:32 -0500 (Mon, 03 Feb 2025) EndedAt: 2025-02-03 15:44:34 -0500 (Mon, 03 Feb 2025) EllapsedTime: 1.5 seconds RetCode: 1 Status: ERROR