Package: eiR Version: 1.47.0 Command: /home/biocbuild/bbs-3.21-bioc/R/bin/R CMD build --keep-empty-dirs --no-resave-data eiR StartedAt: 2025-02-03 17:15:23 -0500 (Mon, 03 Feb 2025) EndedAt: 2025-02-03 17:15:24 -0500 (Mon, 03 Feb 2025) EllapsedTime: 1.0 seconds RetCode: 1 Status: ERROR PackageFile: None PackageFileSize: NA