Package: eiR Version: 1.47.0 Command: /home/biocbuild/bbs-3.21-bioc/R/bin/R CMD check --install=check:eiR.install-out.txt --library=/home/biocbuild/bbs-3.21-bioc/R/site-library --timings eiR_1.47.0.tar.gz StartedAt: 2024-11-12 23:07:31 -0500 (Tue, 12 Nov 2024) EndedAt: 2024-11-12 23:12:50 -0500 (Tue, 12 Nov 2024) EllapsedTime: 319.3 seconds RetCode: 0 Status: OK CheckDir: eiR.Rcheck Warnings: 0