Package: eiR Version: 1.47.0 Command: /home/biocbuild/bbs-3.21-bioc/R/bin/R CMD INSTALL eiR StartedAt: 2025-02-03 15:21:29 -0500 (Mon, 03 Feb 2025) EndedAt: 2025-02-03 15:21:31 -0500 (Mon, 03 Feb 2025) EllapsedTime: 2.0 seconds RetCode: 1 Status: ERROR