Package: eiR Version: 1.47.0 Command: rm -rf eiR.buildbin-libdir && mkdir eiR.buildbin-libdir && E:\biocbuild\bbs-3.21-bioc\R\bin\R.exe CMD INSTALL --build --library=eiR.buildbin-libdir eiR_1.47.0.tar.gz StartedAt: 2025-01-22 07:32:26 -0500 (Wed, 22 Jan 2025) EndedAt: 2025-01-22 07:33:04 -0500 (Wed, 22 Jan 2025) EllapsedTime: 37.6 seconds RetCode: 0 Status: OK PackageFile: eiR_1.47.0.zip PackageFileSize: 516.8 KiB