Package: eiR Version: 1.47.0 Command: chmod a+r eiR -R && E:\biocbuild\bbs-3.21-bioc\R\bin\R.exe CMD build --keep-empty-dirs --no-resave-data eiR StartedAt: 2025-02-03 18:42:56 -0500 (Mon, 03 Feb 2025) EndedAt: 2025-02-03 18:43:02 -0500 (Mon, 03 Feb 2025) EllapsedTime: 5.9 seconds RetCode: 1 Status: ERROR PackageFile: None PackageFileSize: NA