Package: eiR Version: 1.47.0 Command: E:\biocbuild\bbs-3.21-bioc\R\bin\R.exe CMD check --no-multiarch --install=check:eiR.install-out.txt --library=E:\biocbuild\bbs-3.21-bioc\R\library --no-vignettes --timings eiR_1.47.0.tar.gz StartedAt: 2025-01-22 00:47:20 -0500 (Wed, 22 Jan 2025) EndedAt: 2025-01-22 00:51:18 -0500 (Wed, 22 Jan 2025) EllapsedTime: 237.4 seconds RetCode: 1 Status: ERROR CheckDir: eiR.Rcheck Warnings: NA