Package: eiR Version: 1.47.0 Command: E:\biocbuild\bbs-3.21-bioc\R\bin\R.exe CMD INSTALL eiR StartedAt: 2025-02-03 16:23:29 -0500 (Mon, 03 Feb 2025) EndedAt: 2025-02-03 16:23:33 -0500 (Mon, 03 Feb 2025) EllapsedTime: 3.3 seconds RetCode: 1 Status: ERROR