Package: eisaR Version: 1.19.0 Command: rm -rf eisaR.buildbin-libdir && mkdir eisaR.buildbin-libdir && /Users/biocbuild/BBS/utils/build-universal.sh eisaR_1.19.0.tar.gz /Library/Frameworks/R.framework/Resources/bin/R eisaR.buildbin-libdir StartedAt: 2025-02-10 00:51:55 -0500 (Mon, 10 Feb 2025) EndedAt: 2025-02-10 00:52:27 -0500 (Mon, 10 Feb 2025) EllapsedTime: 32.2 seconds RetCode: 0 Status: OK PackageFile: eisaR_1.19.0.tgz PackageFileSize: 1.743 MiB