Package: eisaR Version: 1.19.0 Command: /Library/Frameworks/R.framework/Resources/bin/R CMD build --keep-empty-dirs --no-resave-data eisaR StartedAt: 2025-02-09 16:39:04 -0500 (Sun, 09 Feb 2025) EndedAt: 2025-02-09 16:40:36 -0500 (Sun, 09 Feb 2025) EllapsedTime: 92.5 seconds RetCode: 0 Status: OK PackageFile: eisaR_1.19.0.tar.gz PackageFileSize: 1.714 MiB