Package: eisaR Version: 1.19.0 Command: /home/biocbuild/bbs-3.21-bioc/R/bin/R CMD INSTALL eisaR StartedAt: 2025-02-09 15:23:35 -0500 (Sun, 09 Feb 2025) EndedAt: 2025-02-09 15:23:57 -0500 (Sun, 09 Feb 2025) EllapsedTime: 21.9 seconds RetCode: 0 Status: OK