Package: eisaR Version: 1.19.0 Command: chmod a+r eisaR -R && E:\biocbuild\bbs-3.21-bioc\R\bin\R.exe CMD build --keep-empty-dirs --no-resave-data eisaR StartedAt: 2025-02-12 18:34:40 -0500 (Wed, 12 Feb 2025) EndedAt: 2025-02-12 18:37:24 -0500 (Wed, 12 Feb 2025) EllapsedTime: 164.2 seconds RetCode: 0 Status: OK PackageFile: eisaR_1.19.0.tar.gz PackageFileSize: 1.43 MiB